BEGIN:VCALENDAR
VERSION:2.0
PRODID:-//New Pioneers for a Sustainable Future - ECPv6.15.20//NONSGML v1.0//EN
CALSCALE:GREGORIAN
METHOD:PUBLISH
X-WR-CALNAME:New Pioneers for a Sustainable Future
X-ORIGINAL-URL:https://newpioneers.org
X-WR-CALDESC:Events for New Pioneers for a Sustainable Future
REFRESH-INTERVAL;VALUE=DURATION:PT1H
X-Robots-Tag:noindex
X-PUBLISHED-TTL:PT1H
BEGIN:VTIMEZONE
TZID:UTC
BEGIN:STANDARD
TZOFFSETFROM:+0000
TZOFFSETTO:+0000
TZNAME:UTC
DTSTART:20230101T000000
END:STANDARD
END:VTIMEZONE
BEGIN:VEVENT
DTSTART;TZID=UTC:20240615T100000
DTEND;TZID=UTC:20240615T150000
DTSTAMP:20260421T064412
CREATED:20240412T154736Z
LAST-MODIFIED:20240613T154242Z
UID:10000148-1718445600-1718463600@newpioneers.org
SUMMARY:2024 Green Festival
DESCRIPTION:New Pioneers is thrilled to host our fifteenth annual Springfield Green Festival on Saturday\, June 15\, 2024 from 10-3 p.m. behind the Judicial Center in Springfield\, KY. To honor this important anniversary\, the theme of this year's Green Festival is "Where local sustainability takes root"! \nThis family-friendly annual festival builds awareness of environmental issues and inspires action to support a healthy and sustainable planet\, starting right here in our rural communities. Attractions include live animals\, plant sales\, food trucks\, hands-on education activities\, sustainable living demonstrations\, and helpful resources from community partners. \nSee below for more details ahead of the special day! \nACTIVITIES LINEUP! \n10:00 a.m.: Festival begins! \n10:30-11:30 a.m.: Local musician: Michael Bickett \n11:30-12:30 p.m.: Family-friendly activity: Forest Pals Nature Crafts (under the tent) \n12:30-1:30 p.m.: Local artist: Maurice Manning (music and poetry) \n1:30-2:30 p.m.: Local musician: Jon Nicholson \n2024 EXHIBITORS AND VENDORS \nBun Bun Brigade - Bunnies for adoption! \nEvolve KY - Test drive EVs! \nKentucky Conservation Committee \nDemocratic Women's Club \nLoretto Motherhouse Farm - Fresh\, local beef for sale! \nSisters of Charity of Nazareth \nWashington County Library \nWilderness Trace Solar \nKentucky Division of Forestry \nKentucky Division of Water \nSolarize Boyle \nMassage Therapy of Springfield - Free massages! \n2024 FOOD VENDORS \nJuanitos Street Tacos \nBluegrass Foods \nGet Fired Pizza \nSouthern Style Kettle Corn
URL:https://newpioneers.org/event/2024-green-festival/
LOCATION:Behind the Judicial Center\, 100 E Main St\, Springfield\, KY\, 40069\, United States
CATEGORIES:Environmental Education Program
ATTACH;FMTTYPE=image/png:https://newpioneers.org/wp-content/uploads/2024/04/Springfield-Green-Festival-e1715268160774.png
END:VEVENT
END:VCALENDAR